BEGIN:VCALENDAR
VERSION:2.0
PRODID:-//CERN//INDICO//EN
BEGIN:VEVENT
SUMMARY:Scalars 2015
DTSTART;VALUE=DATE-TIME:20151203T140000Z
DTEND;VALUE=DATE-TIME:20151207T180000Z
DTSTAMP;VALUE=DATE-TIME:20260425T012849Z
UID:indico-event-44@cern.ch
DESCRIPTION:http://indico.fuw.edu.pl/conferenceDisplay.py?confId=44
LOCATION:
URL:http://indico.fuw.edu.pl/conferenceDisplay.py?confId=44
END:VEVENT
END:VCALENDAR
