BEGIN:VCALENDAR
VERSION:2.0
PRODID:-//CERN//INDICO//EN
BEGIN:VEVENT
SUMMARY:Bound states of symmetric and asymmetric dark matter
DTSTART;VALUE=DATE-TIME:20160604T103000Z
DTEND;VALUE=DATE-TIME:20160604T110000Z
DTSTAMP;VALUE=DATE-TIME:20260424T012720Z
UID:indico-contribution-45-30@cern.ch
DESCRIPTION:Speakers: PETRAKI\, Kalliopi (LPTHE\, University of Pierre and
  Marie Curie\, Paris)\nhttp://indico.fuw.edu.pl/contributionDisplay.py?con
 tribId=30&sessionId=10&confId=45
LOCATION:CENT II (Faculty of Physics) building at the Ochota Campus of the
  University of Warsaw 0.06
URL:http://indico.fuw.edu.pl/contributionDisplay.py?contribId=30&sessionId
 =10&confId=45
END:VEVENT
BEGIN:VEVENT
SUMMARY:Dark and Bright side of Fundamental Composite Dynamics
DTSTART;VALUE=DATE-TIME:20160604T093000Z
DTEND;VALUE=DATE-TIME:20160604T100000Z
DTSTAMP;VALUE=DATE-TIME:20260424T012720Z
UID:indico-contribution-45-28@cern.ch
DESCRIPTION:Speakers: SANNINO\, Francesco (CP3-origins\, University of Sou
 thern Denmark)\nhttp://indico.fuw.edu.pl/contributionDisplay.py?contribId=
 28&sessionId=10&confId=45
LOCATION: 0.06
URL:http://indico.fuw.edu.pl/contributionDisplay.py?contribId=28&sessionId
 =10&confId=45
END:VEVENT
BEGIN:VEVENT
SUMMARY:Inflatable Dark Matter
DTSTART;VALUE=DATE-TIME:20160604T100000Z
DTEND;VALUE=DATE-TIME:20160604T103000Z
DTSTAMP;VALUE=DATE-TIME:20260424T012720Z
UID:indico-contribution-45-29@cern.ch
DESCRIPTION:Speakers: DAVOUDIASL\, Hooman (Brookhaven National Laboratory)
 \nhttp://indico.fuw.edu.pl/contributionDisplay.py?contribId=29&sessionId=1
 0&confId=45
LOCATION:CENT II (Faculty of Physics) building at the Ochota Campus of the
  University of Warsaw 0.06
URL:http://indico.fuw.edu.pl/contributionDisplay.py?contribId=29&sessionId
 =10&confId=45
END:VEVENT
BEGIN:VEVENT
SUMMARY:From dark particle physics to the matter distribution of the Unive
 rse
DTSTART;VALUE=DATE-TIME:20160602T170000Z
DTEND;VALUE=DATE-TIME:20160602T173000Z
DTSTAMP;VALUE=DATE-TIME:20260424T012720Z
UID:indico-contribution-45-65@cern.ch
DESCRIPTION:Speakers: CYR-RACINE\, Francis-Yan (Harvard University)\nhttp:
 //indico.fuw.edu.pl/contributionDisplay.py?contribId=65&sessionId=3&confId
 =45
LOCATION:CENT II (Faculty of Physics) building at the Ochota Campus of the
  University of Warsaw 0.06
URL:http://indico.fuw.edu.pl/contributionDisplay.py?contribId=65&sessionId
 =3&confId=45
END:VEVENT
BEGIN:VEVENT
SUMMARY:Current Perspectives on Dark Matter
DTSTART;VALUE=DATE-TIME:20160602T133000Z
DTEND;VALUE=DATE-TIME:20160602T143000Z
DTSTAMP;VALUE=DATE-TIME:20260424T012720Z
UID:indico-contribution-45-66@cern.ch
DESCRIPTION:Speakers: CHACKO\, Zackaria (University of Maryland\, College 
 Park)\nhttp://indico.fuw.edu.pl/contributionDisplay.py?contribId=66&sessio
 nId=1&confId=45
LOCATION:CENT II (Faculty of Physics) building at the Ochota Campus of the
  University of Warsaw 0.06
URL:http://indico.fuw.edu.pl/contributionDisplay.py?contribId=66&sessionId
 =1&confId=45
END:VEVENT
BEGIN:VEVENT
SUMMARY:Self-interacting dark matter from a Breit-Wigner resonance
DTSTART;VALUE=DATE-TIME:20160604T131000Z
DTEND;VALUE=DATE-TIME:20160604T133000Z
DTSTAMP;VALUE=DATE-TIME:20260424T012720Z
UID:indico-contribution-45-68@cern.ch
DESCRIPTION:Speakers: DUCH\, Mateusz (University of Warsaw)\nhttp://indico
 .fuw.edu.pl/contributionDisplay.py?contribId=68&sessionId=11&confId=45
LOCATION:CENT II (Faculty of Physics) building at the Ochota Campus of the
  University of Warsaw 0.06
URL:http://indico.fuw.edu.pl/contributionDisplay.py?contribId=68&sessionId
 =11&confId=45
END:VEVENT
BEGIN:VEVENT
SUMMARY:Direct detection of self-interacting dark matter
DTSTART;VALUE=DATE-TIME:20160604T125000Z
DTEND;VALUE=DATE-TIME:20160604T131000Z
DTSTAMP;VALUE=DATE-TIME:20260424T012720Z
UID:indico-contribution-45-69@cern.ch
DESCRIPTION:Speakers: CLARKE\, Jackson (Centre of Excellence for Particle 
 Physics at the Terascale (CoEPP)\, University of Melbourne)\nhttp://indico
 .fuw.edu.pl/contributionDisplay.py?contribId=69&sessionId=11&confId=45
LOCATION:CENT II (Faculty of Physics) building at the Ochota Campus of the
  University of Warsaw 0.06
URL:http://indico.fuw.edu.pl/contributionDisplay.py?contribId=69&sessionId
 =11&confId=45
END:VEVENT
BEGIN:VEVENT
SUMMARY:Dark matter serach with XMASS
DTSTART;VALUE=DATE-TIME:20160604T145000Z
DTEND;VALUE=DATE-TIME:20160604T151000Z
DTSTAMP;VALUE=DATE-TIME:20260424T012720Z
UID:indico-contribution-45-80@cern.ch
DESCRIPTION:Speakers: KOBAYASHI\, Kazuyoshi (ICRR\, University of Tokyo)\n
 http://indico.fuw.edu.pl/contributionDisplay.py?contribId=80&sessionId=15&
 confId=45
LOCATION:CENT II (Faculty of Physics) building at the Ochota Campus of the
  University of Warsaw 0.03a
URL:http://indico.fuw.edu.pl/contributionDisplay.py?contribId=80&sessionId
 =15&confId=45
END:VEVENT
BEGIN:VEVENT
SUMMARY:Signatures of sneutrino dark matter
DTSTART;VALUE=DATE-TIME:20160603T133000Z
DTEND;VALUE=DATE-TIME:20160603T140000Z
DTSTAMP;VALUE=DATE-TIME:20260424T012720Z
UID:indico-contribution-45-86@cern.ch
DESCRIPTION:Speakers: BELANGER\, Genevieve (LAPTh)\nhttp://indico.fuw.edu.
 pl/contributionDisplay.py?contribId=86&sessionId=7&confId=45
LOCATION:CENT I at the Ochota Campus of the University of Warsaw ground fl
 oor auditorium
URL:http://indico.fuw.edu.pl/contributionDisplay.py?contribId=86&sessionId
 =7&confId=45
END:VEVENT
BEGIN:VEVENT
SUMMARY:Welcome
DTSTART;VALUE=DATE-TIME:20160602T145500Z
DTEND;VALUE=DATE-TIME:20160602T150000Z
DTSTAMP;VALUE=DATE-TIME:20260424T012720Z
UID:indico-contribution-45-87@cern.ch
DESCRIPTION:Speakers: TRIPPENBACH\, Marek ()\nhttp://indico.fuw.edu.pl/con
 tributionDisplay.py?contribId=87&confId=45
LOCATION:CENT II (Faculty of Physics) building at the Ochota Campus of the
  University of Warsaw 0.06
URL:http://indico.fuw.edu.pl/contributionDisplay.py?contribId=87&confId=45
END:VEVENT
BEGIN:VEVENT
SUMMARY:Axion Landscape
DTSTART;VALUE=DATE-TIME:20160604T070000Z
DTEND;VALUE=DATE-TIME:20160604T073000Z
DTSTAMP;VALUE=DATE-TIME:20260424T012720Z
UID:indico-contribution-45-24@cern.ch
DESCRIPTION:Speakers: RAFFELT\, Georg (Max Planck Institute for Physics (M
 PP))\nhttp://indico.fuw.edu.pl/contributionDisplay.py?contribId=24&session
 Id=9&confId=45
LOCATION:CENT II (Faculty of Physics) building at the Ochota Campus of the
  University of Warsaw 0.06
URL:http://indico.fuw.edu.pl/contributionDisplay.py?contribId=24&sessionId
 =9&confId=45
END:VEVENT
BEGIN:VEVENT
SUMMARY:Cosmology of ultralight axions
DTSTART;VALUE=DATE-TIME:20160604T073000Z
DTEND;VALUE=DATE-TIME:20160604T080000Z
DTSTAMP;VALUE=DATE-TIME:20260424T012720Z
UID:indico-contribution-45-25@cern.ch
DESCRIPTION:Speakers: MARSH\, David (King's College London)\nhttp://indico
 .fuw.edu.pl/contributionDisplay.py?contribId=25&sessionId=9&confId=45
LOCATION:CENT II (Faculty of Physics) building at the Ochota Campus of the
  University of Warsaw 0.06
URL:http://indico.fuw.edu.pl/contributionDisplay.py?contribId=25&sessionId
 =9&confId=45
END:VEVENT
BEGIN:VEVENT
SUMMARY:Axions\, dark matter and all that MAD(MAX) stuff
DTSTART;VALUE=DATE-TIME:20160604T080000Z
DTEND;VALUE=DATE-TIME:20160604T083000Z
DTSTAMP;VALUE=DATE-TIME:20260424T012720Z
UID:indico-contribution-45-26@cern.ch
DESCRIPTION:Speakers: REDONDO\, Javier (Zaragoza U\, MPP Munich)\nhttp://i
 ndico.fuw.edu.pl/contributionDisplay.py?contribId=26&sessionId=9&confId=45
LOCATION: 0.06
URL:http://indico.fuw.edu.pl/contributionDisplay.py?contribId=26&sessionId
 =9&confId=45
END:VEVENT
BEGIN:VEVENT
SUMMARY:Squeezing the last out of direct detection
DTSTART;VALUE=DATE-TIME:20160604T083000Z
DTEND;VALUE=DATE-TIME:20160604T090000Z
DTSTAMP;VALUE=DATE-TIME:20260424T012720Z
UID:indico-contribution-45-27@cern.ch
DESCRIPTION:Speakers: PRADLER\, Josef (Institute of High Energy Physics)\n
 http://indico.fuw.edu.pl/contributionDisplay.py?contribId=27&sessionId=9&c
 onfId=45
LOCATION:CENT II (Faculty of Physics) building at the Ochota Campus of the
  University of Warsaw 0.06
URL:http://indico.fuw.edu.pl/contributionDisplay.py?contribId=27&sessionId
 =9&confId=45
END:VEVENT
BEGIN:VEVENT
SUMMARY:Cosmological Higgs-Axion Interplay for a naturally small Electrowe
 ak scale
DTSTART;VALUE=DATE-TIME:20160603T143000Z
DTEND;VALUE=DATE-TIME:20160603T150000Z
DTSTAMP;VALUE=DATE-TIME:20260424T012720Z
UID:indico-contribution-45-21@cern.ch
DESCRIPTION:Speakers: SERVANT\, Géraldine ()\nhttp://indico.fuw.edu.pl/co
 ntributionDisplay.py?contribId=21&sessionId=8&confId=45
LOCATION:CENT I at the Ochota Campus of the University of Warsaw ground fl
 oor auditorium
URL:http://indico.fuw.edu.pl/contributionDisplay.py?contribId=21&sessionId
 =8&confId=45
END:VEVENT
BEGIN:VEVENT
SUMMARY:Gauge fields as dark matter
DTSTART;VALUE=DATE-TIME:20160603T150000Z
DTEND;VALUE=DATE-TIME:20160603T153000Z
DTSTAMP;VALUE=DATE-TIME:20260424T012720Z
UID:indico-contribution-45-22@cern.ch
DESCRIPTION:Speakers: LEBEDEV\, Oleg (Helsinki U.)\nhttp://indico.fuw.edu.
 pl/contributionDisplay.py?contribId=22&sessionId=8&confId=45
LOCATION:CENT I at the Ochota Campus of the University of Warsaw ground fl
 oor auditorium
URL:http://indico.fuw.edu.pl/contributionDisplay.py?contribId=22&sessionId
 =8&confId=45
END:VEVENT
BEGIN:VEVENT
SUMMARY:Effective Operator Models for Semi-Annihilating Dark Matter
DTSTART;VALUE=DATE-TIME:20160605T093000Z
DTEND;VALUE=DATE-TIME:20160605T100000Z
DTSTAMP;VALUE=DATE-TIME:20260424T012720Z
UID:indico-contribution-45-40@cern.ch
DESCRIPTION:Speakers: SPRAY\, Andrew (Institute for Basic Science)\nhttp:/
 /indico.fuw.edu.pl/contributionDisplay.py?contribId=40&sessionId=14&confId
 =45
LOCATION:CENT II (Faculty of Physics) building at the Ochota Campus of the
  University of Warsaw 0.06
URL:http://indico.fuw.edu.pl/contributionDisplay.py?contribId=40&sessionId
 =14&confId=45
END:VEVENT
BEGIN:VEVENT
SUMMARY:Super-Heavy Dark Matter from Inflation -- Towards Predictive Scena
 rios
DTSTART;VALUE=DATE-TIME:20160602T163000Z
DTEND;VALUE=DATE-TIME:20160602T170000Z
DTSTAMP;VALUE=DATE-TIME:20260424T012720Z
UID:indico-contribution-45-41@cern.ch
DESCRIPTION:Speakers: KANNIKE\, Kristjan (National Institute of Chemical P
 hysics and Biophysics)\nhttp://indico.fuw.edu.pl/contributionDisplay.py?co
 ntribId=41&sessionId=3&confId=45
LOCATION:CENT II (Faculty of Physics) building at the Ochota Campus of the
  University of Warsaw 0.06
URL:http://indico.fuw.edu.pl/contributionDisplay.py?contribId=41&sessionId
 =3&confId=45
END:VEVENT
BEGIN:VEVENT
SUMMARY:C & X−Band observations of the peculiar cluster MACS J0417.5−1
 154 from ATCA
DTSTART;VALUE=DATE-TIME:20160604T143000Z
DTEND;VALUE=DATE-TIME:20160604T145000Z
DTSTAMP;VALUE=DATE-TIME:20260424T012720Z
UID:indico-contribution-45-82@cern.ch
DESCRIPTION:Speakers: SANDHU\, Pritpal (Indian Institute of Technology Ind
 ore)\nhttp://indico.fuw.edu.pl/contributionDisplay.py?contribId=82&session
 Id=15&confId=45
LOCATION:CENT II (Faculty of Physics) building at the Ochota Campus of the
  University of Warsaw 0.03a
URL:http://indico.fuw.edu.pl/contributionDisplay.py?contribId=82&sessionId
 =15&confId=45
END:VEVENT
BEGIN:VEVENT
SUMMARY:The Self-Interacting Dark Matter Paradigm
DTSTART;VALUE=DATE-TIME:20160602T150000Z
DTEND;VALUE=DATE-TIME:20160602T153000Z
DTSTAMP;VALUE=DATE-TIME:20260424T012720Z
UID:indico-contribution-45-7@cern.ch
DESCRIPTION:Speakers: YU\, Hai-Bo (UNIVERSITY OF CALIFORNIA\, RIVERSIDE)\n
 http://indico.fuw.edu.pl/contributionDisplay.py?contribId=7&sessionId=3&co
 nfId=45
LOCATION:CENT II (Faculty of Physics) building at the Ochota Campus of the
  University of Warsaw 0.06
URL:http://indico.fuw.edu.pl/contributionDisplay.py?contribId=7&sessionId=
 3&confId=45
END:VEVENT
BEGIN:VEVENT
SUMMARY:Giant Monopoles
DTSTART;VALUE=DATE-TIME:20160602T160000Z
DTEND;VALUE=DATE-TIME:20160602T163000Z
DTSTAMP;VALUE=DATE-TIME:20260424T012720Z
UID:indico-contribution-45-9@cern.ch
DESCRIPTION:Speakers: EVSLIN\, Jarah (Institute of Modern Physics\, CAS)\n
 http://indico.fuw.edu.pl/contributionDisplay.py?contribId=9&sessionId=3&co
 nfId=45
LOCATION:CENT II (Faculty of Physics) building at the Ochota Campus of the
  University of Warsaw 0.06
URL:http://indico.fuw.edu.pl/contributionDisplay.py?contribId=9&sessionId=
 3&confId=45
END:VEVENT
BEGIN:VEVENT
SUMMARY:Direct Detection of Dark Matter with Electromagnetic Interactions
DTSTART;VALUE=DATE-TIME:20160602T153000Z
DTEND;VALUE=DATE-TIME:20160602T160000Z
DTSTAMP;VALUE=DATE-TIME:20260424T012720Z
UID:indico-contribution-45-8@cern.ch
DESCRIPTION:Speakers: DEL NOBILE\, Eugenio (Università di Padova and INFN
 \, Sezione di Padova)\nhttp://indico.fuw.edu.pl/contributionDisplay.py?con
 tribId=8&sessionId=3&confId=45
LOCATION:CENT II (Faculty of Physics) building at the Ochota Campus of the
  University of Warsaw 0.06
URL:http://indico.fuw.edu.pl/contributionDisplay.py?contribId=8&sessionId=
 3&confId=45
END:VEVENT
BEGIN:VEVENT
SUMMARY:A Superheated\, Scintillating\, Liquid Xenon Bubble Chamber for Ex
 panding the Direct Search for Dark Matter
DTSTART;VALUE=DATE-TIME:20160604T151000Z
DTEND;VALUE=DATE-TIME:20160604T153000Z
DTSTAMP;VALUE=DATE-TIME:20260424T012720Z
UID:indico-contribution-45-83@cern.ch
DESCRIPTION:Speakers: SZYDAGIS\, Matthew (University at Albany)\nhttp://in
 dico.fuw.edu.pl/contributionDisplay.py?contribId=83&sessionId=15&confId=45
LOCATION:CENT II (Faculty of Physics) building at the Ochota Campus of the
  University of Warsaw 0.03a
URL:http://indico.fuw.edu.pl/contributionDisplay.py?contribId=83&sessionId
 =15&confId=45
END:VEVENT
BEGIN:VEVENT
SUMMARY:Looking beyond the paradigm: an experimental example from the ultr
 a-high energy cosmic-ray physics
DTSTART;VALUE=DATE-TIME:20160604T131000Z
DTEND;VALUE=DATE-TIME:20160604T133000Z
DTSTAMP;VALUE=DATE-TIME:20260424T012720Z
UID:indico-contribution-45-77@cern.ch
DESCRIPTION:Speakers: HOMOLA\, Piotr (Institute of Nuclear Physics PAN)\nh
 ttp://indico.fuw.edu.pl/contributionDisplay.py?contribId=77&sessionId=15&c
 onfId=45
LOCATION:CENT II (Faculty of Physics) building  at the Ochota Campus of th
 e University of Warsaw 0.03a
URL:http://indico.fuw.edu.pl/contributionDisplay.py?contribId=77&sessionId
 =15&confId=45
END:VEVENT
BEGIN:VEVENT
SUMMARY:Spectral features in the MeV gap
DTSTART;VALUE=DATE-TIME:20160604T123000Z
DTEND;VALUE=DATE-TIME:20160604T125000Z
DTSTAMP;VALUE=DATE-TIME:20260424T012720Z
UID:indico-contribution-45-76@cern.ch
DESCRIPTION:Speakers: HRYCZUK\, Andrzej (University of Oslo)\nhttp://indic
 o.fuw.edu.pl/contributionDisplay.py?contribId=76&sessionId=15&confId=45
LOCATION:CENT II (Faculty of Physics) building  at the Ochota Campus of th
 e University of Warsaw 0.03a
URL:http://indico.fuw.edu.pl/contributionDisplay.py?contribId=76&sessionId
 =15&confId=45
END:VEVENT
BEGIN:VEVENT
SUMMARY:Observational Constraints on Decoupled Hidden Sectors
DTSTART;VALUE=DATE-TIME:20160604T145000Z
DTEND;VALUE=DATE-TIME:20160604T151000Z
DTSTAMP;VALUE=DATE-TIME:20260424T012720Z
UID:indico-contribution-45-75@cern.ch
DESCRIPTION:Speakers: TENKANEN\, Tommi (University of Helsinki)\nhttp://in
 dico.fuw.edu.pl/contributionDisplay.py?contribId=75&sessionId=12&confId=45
LOCATION:CENT II (Faculty of Physics) building at the Ochota Campus of the
  University of Warsaw 0.06
URL:http://indico.fuw.edu.pl/contributionDisplay.py?contribId=75&sessionId
 =12&confId=45
END:VEVENT
BEGIN:VEVENT
SUMMARY:Multi-component dark matter with hidden SU(3) symmetry
DTSTART;VALUE=DATE-TIME:20160605T100000Z
DTEND;VALUE=DATE-TIME:20160605T103000Z
DTSTAMP;VALUE=DATE-TIME:20260424T012720Z
UID:indico-contribution-45-38@cern.ch
DESCRIPTION:Speakers: TOMA\, Takashi (Durham University)\nhttp://indico.fu
 w.edu.pl/contributionDisplay.py?contribId=38&sessionId=14&confId=45
LOCATION: 0.06
URL:http://indico.fuw.edu.pl/contributionDisplay.py?contribId=38&sessionId
 =14&confId=45
END:VEVENT
BEGIN:VEVENT
SUMMARY:General approach to dark matter coannihilation
DTSTART;VALUE=DATE-TIME:20160604T133000Z
DTEND;VALUE=DATE-TIME:20160604T135000Z
DTSTAMP;VALUE=DATE-TIME:20260424T012720Z
UID:indico-contribution-45-73@cern.ch
DESCRIPTION:Speakers: KAMINSKA\, Anna (JGU Mainz)\nhttp://indico.fuw.edu.p
 l/contributionDisplay.py?contribId=73&sessionId=11&confId=45
LOCATION:CENT II (Faculty of Physics) building at the Ochota Campus of the
  University of Warsaw 0.06
URL:http://indico.fuw.edu.pl/contributionDisplay.py?contribId=73&sessionId
 =11&confId=45
END:VEVENT
BEGIN:VEVENT
SUMMARY:Radiative Generation of Neutrino Masses and Dark Matter
DTSTART;VALUE=DATE-TIME:20160604T143000Z
DTEND;VALUE=DATE-TIME:20160604T145000Z
DTSTAMP;VALUE=DATE-TIME:20260424T012720Z
UID:indico-contribution-45-72@cern.ch
DESCRIPTION:Speakers: ESCH\, Sonja (Institut für theoretische Physik WWU 
 Münster)\nhttp://indico.fuw.edu.pl/contributionDisplay.py?contribId=72&se
 ssionId=12&confId=45
LOCATION:CENT II (Faculty of Physics) building at the Ochota Campus of the
  University of Warsaw 0.06
URL:http://indico.fuw.edu.pl/contributionDisplay.py?contribId=72&sessionId
 =12&confId=45
END:VEVENT
BEGIN:VEVENT
SUMMARY:Z_2 SIMP Dark Matter
DTSTART;VALUE=DATE-TIME:20160604T123000Z
DTEND;VALUE=DATE-TIME:20160604T125000Z
DTSTAMP;VALUE=DATE-TIME:20260424T012720Z
UID:indico-contribution-45-70@cern.ch
DESCRIPTION:Speakers: BERNAL\, Nicolás (ICTP - SAIFR)\nhttp://indico.fuw.
 edu.pl/contributionDisplay.py?contribId=70&sessionId=11&confId=45
LOCATION:CENT II (Faculty of Physics) building at the Ochota Campus of the
  University of Warsaw 0.06
URL:http://indico.fuw.edu.pl/contributionDisplay.py?contribId=70&sessionId
 =11&confId=45
END:VEVENT
BEGIN:VEVENT
SUMMARY:Searches for Non-Standard Dark Matter Interactions in the LUX and 
 LZ Detectors
DTSTART;VALUE=DATE-TIME:20160604T133000Z
DTEND;VALUE=DATE-TIME:20160604T135000Z
DTSTAMP;VALUE=DATE-TIME:20260424T012720Z
UID:indico-contribution-45-79@cern.ch
DESCRIPTION:Speakers: SZYDAGIS\, Matthew (University at Albany)\nhttp://in
 dico.fuw.edu.pl/contributionDisplay.py?contribId=79&sessionId=15&confId=45
LOCATION:CENT II (Faculty of Physics) building  at the Ochota Campus of th
 e University of Warsaw 0.03a
URL:http://indico.fuw.edu.pl/contributionDisplay.py?contribId=79&sessionId
 =15&confId=45
END:VEVENT
BEGIN:VEVENT
SUMMARY:Detecting Asymmetric Dark Matter via Neutron Star Collapse
DTSTART;VALUE=DATE-TIME:20160604T125000Z
DTEND;VALUE=DATE-TIME:20160604T131000Z
DTSTAMP;VALUE=DATE-TIME:20260424T012720Z
UID:indico-contribution-45-78@cern.ch
DESCRIPTION:Speakers: LINDEN\, Tim (The Ohio State University)\nhttp://ind
 ico.fuw.edu.pl/contributionDisplay.py?contribId=78&sessionId=15&confId=45
LOCATION:CENT II (Faculty of Physics) building  at the Ochota Campus of th
 e University of Warsaw 0.03a
URL:http://indico.fuw.edu.pl/contributionDisplay.py?contribId=78&sessionId
 =15&confId=45
END:VEVENT
BEGIN:VEVENT
SUMMARY:Dark Matter Searches at the LHC
DTSTART;VALUE=DATE-TIME:20160603T070000Z
DTEND;VALUE=DATE-TIME:20160603T073000Z
DTSTAMP;VALUE=DATE-TIME:20260424T012720Z
UID:indico-contribution-45-11@cern.ch
DESCRIPTION:Speakers: KHURANA\, Raman (National Central University\, Taiwa
 n)\nhttp://indico.fuw.edu.pl/contributionDisplay.py?contribId=11&sessionId
 =5&confId=45
LOCATION:CENT I at the Ochota Campus of the University of Warsaw ground fl
 oor auditorium
URL:http://indico.fuw.edu.pl/contributionDisplay.py?contribId=11&sessionId
 =5&confId=45
END:VEVENT
BEGIN:VEVENT
SUMMARY:Asymmetric Dark Matter and the LHC Diphoton Excess
DTSTART;VALUE=DATE-TIME:20160603T080000Z
DTEND;VALUE=DATE-TIME:20160603T083000Z
DTSTAMP;VALUE=DATE-TIME:20260424T012720Z
UID:indico-contribution-45-13@cern.ch
DESCRIPTION:Speakers: FRANDSEN\, Mads Toudal (CP3-Origins)\nhttp://indico.
 fuw.edu.pl/contributionDisplay.py?contribId=13&sessionId=5&confId=45
LOCATION:CENT I at the Ochota Campus of the University of Warsaw ground fl
 oor auditorium
URL:http://indico.fuw.edu.pl/contributionDisplay.py?contribId=13&sessionId
 =5&confId=45
END:VEVENT
BEGIN:VEVENT
SUMMARY:Particle dark matter: what it is and how to determine its properti
 es
DTSTART;VALUE=DATE-TIME:20160603T073000Z
DTEND;VALUE=DATE-TIME:20160603T080000Z
DTSTAMP;VALUE=DATE-TIME:20260424T012720Z
UID:indico-contribution-45-12@cern.ch
DESCRIPTION:Speakers: ROSZKOWSKI\, Leszek (NCBJ and Univ. of Sheffield)\nh
 ttp://indico.fuw.edu.pl/contributionDisplay.py?contribId=12&sessionId=5&co
 nfId=45
LOCATION:CENT I at the Ochota Campus of the University of Warsaw ground fl
 oor auditorium
URL:http://indico.fuw.edu.pl/contributionDisplay.py?contribId=12&sessionId
 =5&confId=45
END:VEVENT
BEGIN:VEVENT
SUMMARY:Self-interactions of out-of-equilibrium Dark Matter
DTSTART;VALUE=DATE-TIME:20160603T093000Z
DTEND;VALUE=DATE-TIME:20160603T100000Z
DTSTAMP;VALUE=DATE-TIME:20260424T012720Z
UID:indico-contribution-45-15@cern.ch
DESCRIPTION:Speakers: ZALDIVAR\, Bryan (LAPTh-CNRS)\nhttp://indico.fuw.edu
 .pl/contributionDisplay.py?contribId=15&sessionId=6&confId=45
LOCATION:CENT I at the Ochota Campus of the University of Warsaw ground fl
 oor auditorium
URL:http://indico.fuw.edu.pl/contributionDisplay.py?contribId=15&sessionId
 =6&confId=45
END:VEVENT
BEGIN:VEVENT
SUMMARY:A smoking gun for dark matter self interactions?
DTSTART;VALUE=DATE-TIME:20160603T083000Z
DTEND;VALUE=DATE-TIME:20160603T090000Z
DTSTAMP;VALUE=DATE-TIME:20260424T012720Z
UID:indico-contribution-45-14@cern.ch
DESCRIPTION:Speakers: SCHMIDT-HOBERG\, Kai (DESY)\nhttp://indico.fuw.edu.p
 l/contributionDisplay.py?contribId=14&sessionId=5&confId=45
LOCATION:CENT I at the Ochota Campus of the University of Warsaw ground fl
 oor auditorium
URL:http://indico.fuw.edu.pl/contributionDisplay.py?contribId=14&sessionId
 =5&confId=45
END:VEVENT
BEGIN:VEVENT
SUMMARY:WISPy Cold Dark Matter
DTSTART;VALUE=DATE-TIME:20160603T103000Z
DTEND;VALUE=DATE-TIME:20160603T110000Z
DTSTAMP;VALUE=DATE-TIME:20260424T012720Z
UID:indico-contribution-45-17@cern.ch
DESCRIPTION:Speakers: JAECKEL\, Joerg (ITP Heidelberg)\nhttp://indico.fuw.
 edu.pl/contributionDisplay.py?contribId=17&sessionId=6&confId=45
LOCATION:CENT I at the Ochota Campus of the University of Warsaw ground fl
 oor auditorium
URL:http://indico.fuw.edu.pl/contributionDisplay.py?contribId=17&sessionId
 =6&confId=45
END:VEVENT
BEGIN:VEVENT
SUMMARY:Pseudoscalar portals into the dark sector
DTSTART;VALUE=DATE-TIME:20160603T100000Z
DTEND;VALUE=DATE-TIME:20160603T103000Z
DTSTAMP;VALUE=DATE-TIME:20260424T012720Z
UID:indico-contribution-45-16@cern.ch
DESCRIPTION:Speakers: KAHLHOEFER\, Felix (DESY)\nhttp://indico.fuw.edu.pl/
 contributionDisplay.py?contribId=16&sessionId=6&confId=45
LOCATION:CENT I at the Ochota Campus of the University of Warsaw ground fl
 oor auditorium
URL:http://indico.fuw.edu.pl/contributionDisplay.py?contribId=16&sessionId
 =6&confId=45
END:VEVENT
BEGIN:VEVENT
SUMMARY:Indirect searches for particle dark matter
DTSTART;VALUE=DATE-TIME:20160603T130000Z
DTEND;VALUE=DATE-TIME:20160603T133000Z
DTSTAMP;VALUE=DATE-TIME:20260424T012720Z
UID:indico-contribution-45-19@cern.ch
DESCRIPTION:Speakers: WENIGER\, Christoph (University of Amsterdam)\nhttp:
 //indico.fuw.edu.pl/contributionDisplay.py?contribId=19&sessionId=7&confId
 =45
LOCATION:CENT I at the Ochota Campus of the University of Warsaw ground fl
 oor auditorium
URL:http://indico.fuw.edu.pl/contributionDisplay.py?contribId=19&sessionId
 =7&confId=45
END:VEVENT
BEGIN:VEVENT
SUMMARY:Observational tests of the composition of dark matter
DTSTART;VALUE=DATE-TIME:20160605T080000Z
DTEND;VALUE=DATE-TIME:20160605T083000Z
DTSTAMP;VALUE=DATE-TIME:20260424T012720Z
UID:indico-contribution-45-36@cern.ch
DESCRIPTION:Speakers: DOROSHKEVICH\, Andrey (FIAN AS Russia)\nhttp://indic
 o.fuw.edu.pl/contributionDisplay.py?contribId=36&sessionId=13&confId=45
LOCATION: 0.06
URL:http://indico.fuw.edu.pl/contributionDisplay.py?contribId=36&sessionId
 =13&confId=45
END:VEVENT
BEGIN:VEVENT
SUMMARY:Reheating the Standard Model from a hidden sector
DTSTART;VALUE=DATE-TIME:20160604T151000Z
DTEND;VALUE=DATE-TIME:20160604T153000Z
DTSTAMP;VALUE=DATE-TIME:20260424T012720Z
UID:indico-contribution-45-74@cern.ch
DESCRIPTION:Speakers: VASKONEN\, Ville (University of Jyväskylä)\nhttp:/
 /indico.fuw.edu.pl/contributionDisplay.py?contribId=74&sessionId=12&confId
 =45
LOCATION:CENT II (Faculty of Physics) building at the Ochota Campus of the
  University of Warsaw 0.06
URL:http://indico.fuw.edu.pl/contributionDisplay.py?contribId=74&sessionId
 =12&confId=45
END:VEVENT
BEGIN:VEVENT
SUMMARY:Flavor-Mixed Dark Matter in Cosmology
DTSTART;VALUE=DATE-TIME:20160605T083000Z
DTEND;VALUE=DATE-TIME:20160605T090000Z
DTSTAMP;VALUE=DATE-TIME:20260424T012720Z
UID:indico-contribution-45-37@cern.ch
DESCRIPTION:Speakers: MEDVEDEV\, Mikhail (University of Kansas)\nhttp://in
 dico.fuw.edu.pl/contributionDisplay.py?contribId=37&sessionId=13&confId=45
LOCATION:CENT II (Faculty of Physics) building at the Ochota Campus of the
  University of Warsaw 0.06
URL:http://indico.fuw.edu.pl/contributionDisplay.py?contribId=37&sessionId
 =13&confId=45
END:VEVENT
BEGIN:VEVENT
SUMMARY:Closing remarks
DTSTART;VALUE=DATE-TIME:20160605T103000Z
DTEND;VALUE=DATE-TIME:20160605T104500Z
DTSTAMP;VALUE=DATE-TIME:20260424T012720Z
UID:indico-contribution-45-88@cern.ch
DESCRIPTION:Speakers: YU\, HAI-BO (UNIVERSITY OF CALIFORNIA\, RIVERSIDE)\n
 http://indico.fuw.edu.pl/contributionDisplay.py?contribId=88&sessionId=14&
 confId=45
LOCATION:CENT II (Faculty of Physics) building at the Ochota Campus of the
  University of Warsaw
URL:http://indico.fuw.edu.pl/contributionDisplay.py?contribId=88&sessionId
 =14&confId=45
END:VEVENT
BEGIN:VEVENT
SUMMARY:Direct Dark Matter Detection
DTSTART;VALUE=DATE-TIME:20160603T123000Z
DTEND;VALUE=DATE-TIME:20160603T130000Z
DTSTAMP;VALUE=DATE-TIME:20260424T012720Z
UID:indico-contribution-45-18@cern.ch
DESCRIPTION:Speakers: MONROE\, Jocelyn ()\nhttp://indico.fuw.edu.pl/contri
 butionDisplay.py?contribId=18&sessionId=7&confId=45
LOCATION:CENT I at the Ochota Campus of the University of Warsaw ground fl
 oor auditorium
URL:http://indico.fuw.edu.pl/contributionDisplay.py?contribId=18&sessionId
 =7&confId=45
END:VEVENT
END:VCALENDAR
