BEGIN:VCALENDAR
VERSION:2.0
PRODID:-//CERN//INDICO//EN
BEGIN:VEVENT
SUMMARY:Nadzwyczajny Zjazd Fizyków Polskich
DTSTART;VALUE=DATE-TIME:20200423T230000Z
DTEND;VALUE=DATE-TIME:20200426T160000Z
DTSTAMP;VALUE=DATE-TIME:20260422T221856Z
UID:indico-event-63@cern.ch
DESCRIPTION:http://indico.fuw.edu.pl/conferenceDisplay.py?confId=63
LOCATION:
URL:http://indico.fuw.edu.pl/conferenceDisplay.py?confId=63
END:VEVENT
END:VCALENDAR
