BEGIN:VCALENDAR
VERSION:2.0
PRODID:-//CERN//INDICO//EN
BEGIN:VEVENT
SUMMARY:SIDE 14.2
DTSTART;VALUE=DATE-TIME:20230619T060000Z
DTEND;VALUE=DATE-TIME:20230623T161000Z
DTSTAMP;VALUE=DATE-TIME:20260422T041353Z
UID:indico-event-67@cern.ch
DESCRIPTION:SIDE 14.2 is the fourteenth in a series of biennial conference
 s dedicated to Symmetries and\nIntegrability of Difference Equations\, and
  in particular to: ordinary and partial difference equations\,\nanalytic d
 ifference equations\, orthogonal polynomials and special functions\, symme
 tries and\nreductions\, discrete differential geometry\, integrable discre
 te systems on graphs\, integrable\ndynamical mappings\, (discrete) Painlev
 é equations\, integrability criteria\, Yang-Baxter type\nequations\, clus
 ter algebras\, difference Galois theory\, quantum mappings\, quantum field
  theory on\nspace-time lattices\, representation theory\, combinatorics\, 
 numerical models of differential\nequations\, discrete stochastic models a
 nd other related topics.\n\nhttp://indico.fuw.edu.pl/conferenceDisplay.py?
 confId=67
LOCATION:Faculty of Physics\, University of Warsaw Lecture hall: 0.06
URL:http://indico.fuw.edu.pl/conferenceDisplay.py?confId=67
END:VEVENT
END:VCALENDAR
