BEGIN:VCALENDAR
VERSION:2.0
PRODID:-//CERN//INDICO//EN
BEGIN:VEVENT
SUMMARY:PLANCK 2023 – The 25th International Conference From the Planck 
 Scale to the Electroweak Scale
DTSTART;VALUE=DATE-TIME:20230522T060000Z
DTEND;VALUE=DATE-TIME:20230526T163000Z
DTSTAMP;VALUE=DATE-TIME:20260420T213243Z
UID:indico-event-68@cern.ch
DESCRIPTION:\n	PLANCK 2023 – The 25th International Conference From the 
 Planck Scale to the Electroweak Scale\n\n	The 25th Planck conference in th
 e series "From the Planck scale to the electroweak scale" will take place 
 in Warsaw\, May 22-26\, 2023. It will be focused on "Hot topics in particl
 e physics and cosmology: theory facing experimental prospects". Thus\, its
  mostly theoretical character will be guided and organized according to th
 e following blocks:\n\n		Axions and axion-like particles \n	\n		Dark matte
 r\n	\n		Flavour physics \n	\n		Gravitational waves and the universe's evol
 ution \n	\n		LHC and HLHC potential\n	\n		Neutrino physics\nConference pro
 gram\n\n		Check the timetable publish on this webpage.\n	\n		Download appl
 ication for mobile devices from Google Play.\n	\n		Download application fo
 r mobile devices from AppStore.\nPhotos from the conference\n\n		Click to 
 see the photographs from the PLANCK'2023 conference\nImportant dates\n\n		
 Abstract submission deadline: 10 April 2023\n	\n		Decision on abstract ac
 ceptance: 10-18 April 2023\n	\n		Early registration deadline: 21 April 20
 23\n	\n		Regular registration deadline: 21 May 2023\n	\n		Onsite registrat
 ion: 22-26 May 2023\n	\n		Conference: 22-26 May 2023\nPrevious PLANCK meet
 ings\n		1998 Kazimierz\,\n	\n		1999 Bad Honnef\,\n	\n		2000 Castelvecchio 
 Pascoli\,\n	\n		2001 La Londe-les-Maures\,\n	\n		2002 Kazimierz\,\n	\n		20
 03 Madrid\,\n	\n		2004 Bad Honnef\,\n	\n		2005 Trieste\,\n	\n		2006 Paris\
 ,\n	\n		2007 Warsaw\,\n	\n		2008 Barcelona\,\n	\n		2009 Padova\,\n	\n		201
 0 CERN\,\n	\n		2011 Lisbon\,\n	\n		2012 Warsaw\,\n	\n		2013 Bonn\,\n	\n		2
 014 Paris\,\n	\n		2015 Ioaninna\,\n	\n		2016 Valencia\n	\n		2017 Warsaw\n	
 \n		2018 Bonn\n	\n		2019 Granada\n	\n		2020 Durham (canceled)\n	\n		2021 o
 nline\n	\n		2022 Paris\n\n\nhttp://indico.fuw.edu.pl/conferenceDisplay.py?
 confId=68
LOCATION:Biological and Chemical Research Centre
URL:http://indico.fuw.edu.pl/conferenceDisplay.py?confId=68
END:VEVENT
END:VCALENDAR
