BEGIN:VCALENDAR
VERSION:2.0
PRODID:-//CERN//INDICO//EN
BEGIN:VEVENT
SUMMARY:Probing extended Higgs sectors by precision measurements of the Hi
 ggs boson couplings
DTSTART;VALUE=DATE-TIME:20151206T132000Z
DTEND;VALUE=DATE-TIME:20151206T132500Z
DTSTAMP;VALUE=DATE-TIME:20260422T214757Z
UID:indico-contribution-102@cern.ch
DESCRIPTION:Speakers: Ms. KIKUCHI\, Mariko (University of Toyama)\nhttp://
 indico.fuw.edu.pl/contributionDisplay.py?contribId=102&sessionId=9&confId=
 44
LOCATION:
URL:http://indico.fuw.edu.pl/contributionDisplay.py?contribId=102&sessionI
 d=9&confId=44
END:VEVENT
END:VCALENDAR
