BEGIN:VCALENDAR
VERSION:2.0
PRODID:-//CERN//INDICO//EN
BEGIN:VEVENT
SUMMARY:Scientific highlights from ATLAS
DTSTART;VALUE=DATE-TIME:20151204T080000Z
DTEND;VALUE=DATE-TIME:20151204T083000Z
DTSTAMP;VALUE=DATE-TIME:20260419T185629Z
UID:indico-contribution-110@cern.ch
DESCRIPTION:Speakers: BARR\, Alan ()\nhttp://indico.fuw.edu.pl/contributio
 nDisplay.py?contribId=110&sessionId=4&confId=44
LOCATION:
URL:http://indico.fuw.edu.pl/contributionDisplay.py?contribId=110&sessionI
 d=4&confId=44
END:VEVENT
END:VCALENDAR
