BEGIN:VCALENDAR
VERSION:2.0
PRODID:-//CERN//INDICO//EN
BEGIN:VEVENT
SUMMARY:Relaxing the Higgs with cosmology
DTSTART;VALUE=DATE-TIME:20151204T130000Z
DTEND;VALUE=DATE-TIME:20151204T133000Z
DTSTAMP;VALUE=DATE-TIME:20260423T184437Z
UID:indico-contribution-116@cern.ch
DESCRIPTION:Speakers: GROJEAN\, Christophe (DESY)\nhttp://indico.fuw.edu.p
 l/contributionDisplay.py?contribId=116&sessionId=11&confId=44
LOCATION: CENT III
URL:http://indico.fuw.edu.pl/contributionDisplay.py?contribId=116&sessionI
 d=11&confId=44
END:VEVENT
END:VCALENDAR
