BEGIN:VCALENDAR
VERSION:2.0
PRODID:-//CERN//INDICO//EN
BEGIN:VEVENT
SUMMARY:Impact of Gravity on the Standard Model Vacuum Stability
DTSTART;VALUE=DATE-TIME:20151204T170000Z
DTEND;VALUE=DATE-TIME:20151204T173000Z
DTSTAMP;VALUE=DATE-TIME:20260425T135247Z
UID:indico-contribution-123@cern.ch
DESCRIPTION:Speakers: BRANCHINA\, Vincenzo (University of Catania)\nhttp:/
 /indico.fuw.edu.pl/contributionDisplay.py?contribId=123&sessionId=11&confI
 d=44
LOCATION: CENT III
URL:http://indico.fuw.edu.pl/contributionDisplay.py?contribId=123&sessionI
 d=11&confId=44
END:VEVENT
END:VCALENDAR
