BEGIN:VCALENDAR
VERSION:2.0
PRODID:-//CERN//INDICO//EN
BEGIN:VEVENT
SUMMARY:Does Quantum Gravity constrain Large-Field Inflation?
DTSTART;VALUE=DATE-TIME:20151205T130000Z
DTEND;VALUE=DATE-TIME:20151205T133000Z
DTSTAMP;VALUE=DATE-TIME:20260424T160637Z
UID:indico-contribution-130@cern.ch
DESCRIPTION:Speakers: HEBECKER\, Arthur (Heidelberg University)\nhttp://in
 dico.fuw.edu.pl/contributionDisplay.py?contribId=130&sessionId=15&confId=4
 4
LOCATION: CENT III
URL:http://indico.fuw.edu.pl/contributionDisplay.py?contribId=130&sessionI
 d=15&confId=44
END:VEVENT
END:VCALENDAR
