BEGIN:VCALENDAR
VERSION:2.0
PRODID:-//CERN//INDICO//EN
BEGIN:VEVENT
SUMMARY:CP Violation in the scalar sector
DTSTART;VALUE=DATE-TIME:20151207T103000Z
DTEND;VALUE=DATE-TIME:20151207T110000Z
DTSTAMP;VALUE=DATE-TIME:20260424T064950Z
UID:indico-contribution-143@cern.ch
DESCRIPTION:Speakers: OSLAND\, Per (University of Bergen)\nhttp://indico.f
 uw.edu.pl/contributionDisplay.py?contribId=143&sessionId=6&confId=44
LOCATION: CENT III
URL:http://indico.fuw.edu.pl/contributionDisplay.py?contribId=143&sessionI
 d=6&confId=44
END:VEVENT
END:VCALENDAR
