BEGIN:VCALENDAR
VERSION:2.0
PRODID:-//CERN//INDICO//EN
BEGIN:VEVENT
SUMMARY:Dark Matter at the LHC: Bringing scalar portals into play
DTSTART;VALUE=DATE-TIME:20151206T161000Z
DTEND;VALUE=DATE-TIME:20151206T163000Z
DTSTAMP;VALUE=DATE-TIME:20260421T195822Z
UID:indico-contribution-92@cern.ch
DESCRIPTION:Speakers: Dr. NO\, Jose Miguel (University of Sussex)\nhttp://
 indico.fuw.edu.pl/contributionDisplay.py?contribId=92&sessionId=26&confId=
 44
LOCATION:
URL:http://indico.fuw.edu.pl/contributionDisplay.py?contribId=92&sessionId
 =26&confId=44
END:VEVENT
END:VCALENDAR
